BEGIN:VCALENDAR
VERSION:2.0
PRODID:-//All Saints&#039; CE - ECPv6.15.17.1//NONSGML v1.0//EN
CALSCALE:GREGORIAN
METHOD:PUBLISH
X-ORIGINAL-URL:https://www.allsaintsilkley.bradford.sch.uk
X-WR-CALDESC:Events for All Saints&#039; CE
REFRESH-INTERVAL;VALUE=DURATION:PT1H
X-Robots-Tag:noindex
X-PUBLISHED-TTL:PT1H
BEGIN:VTIMEZONE
TZID:UTC
BEGIN:STANDARD
TZOFFSETFROM:+0000
TZOFFSETTO:+0000
TZNAME:UTC
DTSTART:20250101T000000
END:STANDARD
END:VTIMEZONE
BEGIN:VEVENT
DTSTART;VALUE=DATE:20260710
DTEND;VALUE=DATE:20260711
DTSTAMP:20260422T152500
CREATED:20251009T134403Z
LAST-MODIFIED:20251009T134403Z
UID:5691-1783641600-1783727999@www.allsaintsilkley.bradford.sch.uk
SUMMARY:School Council Break the Rules Day
DESCRIPTION:
URL:https://www.allsaintsilkley.bradford.sch.uk/event/school-council-break-the-rules-day/
END:VEVENT
BEGIN:VEVENT
DTSTART;TZID=UTC:20260716T134000
DTEND;TZID=UTC:20260716T150000
DTSTAMP:20260422T152500
CREATED:20251009T134542Z
LAST-MODIFIED:20251009T134542Z
UID:5693-1784209200-1784214000@www.allsaintsilkley.bradford.sch.uk
SUMMARY:Year 6 Leavers' Service\, All Saints' Church
DESCRIPTION:
URL:https://www.allsaintsilkley.bradford.sch.uk/event/year-6-leavers-service-all-saints-church/
END:VEVENT
END:VCALENDAR