BEGIN:VCALENDAR
VERSION:2.0
PRODID:-//All Saints&#039; CE - ECPv6.15.17.1//NONSGML v1.0//EN
CALSCALE:GREGORIAN
METHOD:PUBLISH
X-ORIGINAL-URL:https://www.allsaintsilkley.bradford.sch.uk
X-WR-CALDESC:Events for All Saints&#039; CE
REFRESH-INTERVAL;VALUE=DURATION:PT1H
X-Robots-Tag:noindex
X-PUBLISHED-TTL:PT1H
BEGIN:VTIMEZONE
TZID:UTC
BEGIN:STANDARD
TZOFFSETFROM:+0000
TZOFFSETTO:+0000
TZNAME:UTC
DTSTART:20240101T000000
END:STANDARD
END:VTIMEZONE
BEGIN:VEVENT
DTSTART;VALUE=DATE:20251205
DTEND;VALUE=DATE:20251207
DTSTAMP:20260422T162151
CREATED:20251127T100308Z
LAST-MODIFIED:20251127T105408Z
UID:5930-1764892800-1765065599@www.allsaintsilkley.bradford.sch.uk
SUMMARY:Christmas Tree Festival\, St Margaret's Church
DESCRIPTION:
URL:https://www.allsaintsilkley.bradford.sch.uk/event/christmas-tree-festival-st-margarets-church/
END:VEVENT
BEGIN:VEVENT
DTSTART;TZID=UTC:20251205T153000
DTEND;TZID=UTC:20251205T170000
DTSTAMP:20260422T162151
CREATED:20250918T102545Z
LAST-MODIFIED:20251127T100138Z
UID:5532-1764948600-1764954000@www.allsaintsilkley.bradford.sch.uk
SUMMARY:PTA Christmas Winter Wonderland
DESCRIPTION:
URL:https://www.allsaintsilkley.bradford.sch.uk/event/pta-christmas-winter-wonderland/
END:VEVENT
BEGIN:VEVENT
DTSTART;TZID=UTC:20251212T091500
DTEND;TZID=UTC:20251212T101500
DTSTAMP:20260422T162151
CREATED:20251021T182705Z
LAST-MODIFIED:20251021T182705Z
UID:5719-1765530900-1765534500@www.allsaintsilkley.bradford.sch.uk
SUMMARY:Reception Nativity
DESCRIPTION:
URL:https://www.allsaintsilkley.bradford.sch.uk/event/reception-nativity-2/
END:VEVENT
BEGIN:VEVENT
DTSTART;TZID=UTC:20251216T180000
DTEND;TZID=UTC:20251216T190000
DTSTAMP:20260422T162151
CREATED:20250918T101046Z
LAST-MODIFIED:20250918T101046Z
UID:5520-1765908000-1765911600@www.allsaintsilkley.bradford.sch.uk
SUMMARY:Carol Service Year 3 and 4
DESCRIPTION:
URL:https://www.allsaintsilkley.bradford.sch.uk/event/carol-service-year-3-and-4/
END:VEVENT
BEGIN:VEVENT
DTSTART;TZID=UTC:20251217T120000
DTEND;TZID=UTC:20251217T133000
DTSTAMP:20260422T162151
CREATED:20251114T121630Z
LAST-MODIFIED:20251114T121630Z
UID:5894-1765972800-1765978200@www.allsaintsilkley.bradford.sch.uk
SUMMARY:School Christmas Lunch
DESCRIPTION:
URL:https://www.allsaintsilkley.bradford.sch.uk/event/school-christmas-lunch/
END:VEVENT
BEGIN:VEVENT
DTSTART;TZID=UTC:20251217T140000
DTEND;TZID=UTC:20251217T150000
DTSTAMP:20260422T162151
CREATED:20250918T100849Z
LAST-MODIFIED:20250918T100932Z
UID:5517-1765980000-1765983600@www.allsaintsilkley.bradford.sch.uk
SUMMARY:Carol Service Year 1 and 2\, All Saints' Church
DESCRIPTION:
URL:https://www.allsaintsilkley.bradford.sch.uk/event/carol-service-year-3-and-4-all-saints-church/
END:VEVENT
END:VCALENDAR