BEGIN:VCALENDAR
VERSION:2.0
PRODID:-//All Saints&#039; CE - ECPv6.15.17.1//NONSGML v1.0//EN
CALSCALE:GREGORIAN
METHOD:PUBLISH
X-WR-CALNAME:All Saints&#039; CE
X-ORIGINAL-URL:https://www.allsaintsilkley.bradford.sch.uk
X-WR-CALDESC:Events for All Saints&#039; CE
REFRESH-INTERVAL;VALUE=DURATION:PT1H
X-Robots-Tag:noindex
X-PUBLISHED-TTL:PT1H
BEGIN:VTIMEZONE
TZID:UTC
BEGIN:STANDARD
TZOFFSETFROM:+0000
TZOFFSETTO:+0000
TZNAME:UTC
DTSTART:20240101T000000
END:STANDARD
END:VTIMEZONE
BEGIN:VEVENT
DTSTART;VALUE=DATE:20251110
DTEND;VALUE=DATE:20251111
DTSTAMP:20260422T174919
CREATED:20250911T103432Z
LAST-MODIFIED:20250911T103432Z
UID:5174-1762732800-1762819199@www.allsaintsilkley.bradford.sch.uk
SUMMARY:Individual Pupil photos
DESCRIPTION:
URL:https://www.allsaintsilkley.bradford.sch.uk/event/individual-pupil-photos/
END:VEVENT
BEGIN:VEVENT
DTSTART;TZID=UTC:20251112T090000
DTEND;TZID=UTC:20251112T100000
DTSTAMP:20260422T174919
CREATED:20250911T103619Z
LAST-MODIFIED:20251030T142347Z
UID:5176-1762938000-1762941600@www.allsaintsilkley.bradford.sch.uk
SUMMARY:Pine Marten Class Collective Worship and Class Visit
DESCRIPTION:
URL:https://www.allsaintsilkley.bradford.sch.uk/event/rabbit-class-collective-worship-and-class-visit/
END:VEVENT
BEGIN:VEVENT
DTSTART;VALUE=DATE:20251113
DTEND;VALUE=DATE:20251114
DTSTAMP:20260422T174919
CREATED:20251009T104743Z
LAST-MODIFIED:20251009T104743Z
UID:5658-1762992000-1763078399@www.allsaintsilkley.bradford.sch.uk
SUMMARY:Year 5 Christmas Lantern Making Workshops in class
DESCRIPTION:
URL:https://www.allsaintsilkley.bradford.sch.uk/event/year-5-christmas-lantern-making-workshops-in-class/
END:VEVENT
BEGIN:VEVENT
DTSTART;VALUE=DATE:20251114
DTEND;VALUE=DATE:20251115
DTSTAMP:20260422T174919
CREATED:20250911T103704Z
LAST-MODIFIED:20250911T103704Z
UID:5178-1763078400-1763164799@www.allsaintsilkley.bradford.sch.uk
SUMMARY:Children in Need
DESCRIPTION:
URL:https://www.allsaintsilkley.bradford.sch.uk/event/children-in-need-2/
END:VEVENT
BEGIN:VEVENT
DTSTART;VALUE=DATE:20251114
DTEND;VALUE=DATE:20251115
DTSTAMP:20260422T174919
CREATED:20250918T100625Z
LAST-MODIFIED:20250918T100625Z
UID:5515-1763078400-1763164799@www.allsaintsilkley.bradford.sch.uk
SUMMARY:Children in Need non uniform day
DESCRIPTION:
URL:https://www.allsaintsilkley.bradford.sch.uk/event/children-in-need-non-uniform-day/
END:VEVENT
BEGIN:VEVENT
DTSTART;TZID=UTC:20251115T090000
DTEND;TZID=UTC:20251115T110000
DTSTAMP:20260422T174919
CREATED:20250911T103810Z
LAST-MODIFIED:20250911T103810Z
UID:5180-1763197200-1763204400@www.allsaintsilkley.bradford.sch.uk
SUMMARY:Cross Country\, All Saints'\, Ilkley Lido
DESCRIPTION:
URL:https://www.allsaintsilkley.bradford.sch.uk/event/cross-country-all-saints-ilkley-lido/
END:VEVENT
BEGIN:VEVENT
DTSTART;TZID=UTC:20251119T090000
DTEND;TZID=UTC:20251119T100000
DTSTAMP:20260422T174919
CREATED:20250911T104030Z
LAST-MODIFIED:20250911T104030Z
UID:5182-1763542800-1763546400@www.allsaintsilkley.bradford.sch.uk
SUMMARY:Deer Class Collective Worship and Class Visit
DESCRIPTION:
URL:https://www.allsaintsilkley.bradford.sch.uk/event/deer-class-collective-worship-and-class-visit/
END:VEVENT
BEGIN:VEVENT
DTSTART;TZID=UTC:20251121T180000
DTEND;TZID=UTC:20251121T203000
DTSTAMP:20260422T174919
CREATED:20250918T102342Z
LAST-MODIFIED:20250918T102342Z
UID:5530-1763748000-1763757000@www.allsaintsilkley.bradford.sch.uk
SUMMARY:Neon Disco
DESCRIPTION:
URL:https://www.allsaintsilkley.bradford.sch.uk/event/neon-disco/
END:VEVENT
BEGIN:VEVENT
DTSTART;TZID=UTC:20251126T090000
DTEND;TZID=UTC:20251126T100000
DTSTAMP:20260422T174919
CREATED:20251023T132354Z
LAST-MODIFIED:20251023T132354Z
UID:5748-1764147600-1764151200@www.allsaintsilkley.bradford.sch.uk
SUMMARY:Squirrel assembly and class visit
DESCRIPTION:
URL:https://www.allsaintsilkley.bradford.sch.uk/event/squirrel-assembly-and-class-visit/
END:VEVENT
END:VCALENDAR