BEGIN:VCALENDAR
VERSION:2.0
PRODID:-//All Saints&#039; CE - ECPv6.15.17.1//NONSGML v1.0//EN
CALSCALE:GREGORIAN
METHOD:PUBLISH
X-WR-CALNAME:All Saints&#039; CE
X-ORIGINAL-URL:https://www.allsaintsilkley.bradford.sch.uk
X-WR-CALDESC:Events for All Saints&#039; CE
REFRESH-INTERVAL;VALUE=DURATION:PT1H
X-Robots-Tag:noindex
X-PUBLISHED-TTL:PT1H
BEGIN:VTIMEZONE
TZID:UTC
BEGIN:STANDARD
TZOFFSETFROM:+0000
TZOFFSETTO:+0000
TZNAME:UTC
DTSTART:20240101T000000
END:STANDARD
END:VTIMEZONE
BEGIN:VEVENT
DTSTART;TZID=UTC:20250721T080000
DTEND;TZID=UTC:20250829T170000
DTSTAMP:20260422T222256
CREATED:20240811T123635Z
LAST-MODIFIED:20240811T123703Z
UID:1923-1753084800-1756486800@www.allsaintsilkley.bradford.sch.uk
SUMMARY:School Closed for Summer Holidays
DESCRIPTION:Staff Training Days – 21st and 22nd July
URL:https://www.allsaintsilkley.bradford.sch.uk/event/school-closed-for-summer-holidays/
END:VEVENT
END:VCALENDAR