BEGIN:VCALENDAR
VERSION:2.0
PRODID:-//All Saints&#039; CE - ECPv6.15.17.1//NONSGML v1.0//EN
CALSCALE:GREGORIAN
METHOD:PUBLISH
X-ORIGINAL-URL:https://www.allsaintsilkley.bradford.sch.uk
X-WR-CALDESC:Events for All Saints&#039; CE
REFRESH-INTERVAL;VALUE=DURATION:PT1H
X-Robots-Tag:noindex
X-PUBLISHED-TTL:PT1H
BEGIN:VTIMEZONE
TZID:UTC
BEGIN:STANDARD
TZOFFSETFROM:+0000
TZOFFSETTO:+0000
TZNAME:UTC
DTSTART:20240101T000000
END:STANDARD
END:VTIMEZONE
BEGIN:VEVENT
DTSTART;TZID=UTC:20250602T080000
DTEND;TZID=UTC:20250602T170000
DTSTAMP:20260423T014708
CREATED:20240811T123548Z
LAST-MODIFIED:20240811T123548Z
UID:1921-1748851200-1748883600@www.allsaintsilkley.bradford.sch.uk
SUMMARY:Training Day - School Closed
DESCRIPTION:Staff Training Day – School closed to pupils.
URL:https://www.allsaintsilkley.bradford.sch.uk/event/training-day-school-closed/
END:VEVENT
BEGIN:VEVENT
DTSTART;TZID=UTC:20250605T181500
DTEND;TZID=UTC:20250605T191500
DTSTAMP:20260423T014708
CREATED:20250604T114242Z
LAST-MODIFIED:20250604T114242Z
UID:4696-1749147300-1749150900@www.allsaintsilkley.bradford.sch.uk
SUMMARY:New Reception Starters Welcome Meeting
DESCRIPTION:
URL:https://www.allsaintsilkley.bradford.sch.uk/event/new-reception-starters-welcome-meeting/
END:VEVENT
BEGIN:VEVENT
DTSTART;VALUE=DATE:20250609
DTEND;VALUE=DATE:20250610
DTSTAMP:20260423T014708
CREATED:20250523T150154Z
LAST-MODIFIED:20250523T150256Z
UID:4662-1749427200-1749513599@www.allsaintsilkley.bradford.sch.uk
SUMMARY:Class Photos
DESCRIPTION:
URL:https://www.allsaintsilkley.bradford.sch.uk/event/class-photos-3/
END:VEVENT
BEGIN:VEVENT
DTSTART;TZID=UTC:20250610T090000
DTEND;TZID=UTC:20250610T093000
DTSTAMP:20260423T014708
CREATED:20250606T164324Z
LAST-MODIFIED:20250606T164324Z
UID:4701-1749546000-1749547800@www.allsaintsilkley.bradford.sch.uk
SUMMARY:Hedgehog Class Assembly
DESCRIPTION:
URL:https://www.allsaintsilkley.bradford.sch.uk/event/hedgehog-class-assembly/
END:VEVENT
BEGIN:VEVENT
DTSTART;TZID=UTC:20250610T110000
DTEND;TZID=UTC:20250610T143000
DTSTAMP:20260423T014708
CREATED:20250523T140441Z
LAST-MODIFIED:20250604T115431Z
UID:4657-1749553200-1749565800@www.allsaintsilkley.bradford.sch.uk
SUMMARY:Year 5 Tennis trip to ILTC
DESCRIPTION:
URL:https://www.allsaintsilkley.bradford.sch.uk/event/year-5-tennis-trip-to-iltc/
END:VEVENT
BEGIN:VEVENT
DTSTART;TZID=UTC:20250611T080000
DTEND;TZID=UTC:20250611T170000
DTSTAMP:20260423T014708
CREATED:20250522T092914Z
LAST-MODIFIED:20250601T134425Z
UID:4627-1749628800-1749661200@www.allsaintsilkley.bradford.sch.uk
SUMMARY:Wharfedale Festival Kings Hall Year 5/6
DESCRIPTION:
URL:https://www.allsaintsilkley.bradford.sch.uk/event/wharfedale-festival-kings-hall-year-6/
END:VEVENT
BEGIN:VEVENT
DTSTART;VALUE=DATE:20250613
DTEND;VALUE=DATE:20250614
DTSTAMP:20260423T014708
CREATED:20250606T204252Z
LAST-MODIFIED:20250606T204252Z
UID:4703-1749772800-1749859199@www.allsaintsilkley.bradford.sch.uk
SUMMARY:All Saints Earth Day Challenge
DESCRIPTION:
URL:https://www.allsaintsilkley.bradford.sch.uk/event/all-saints-earth-day-challenge/
END:VEVENT
BEGIN:VEVENT
DTSTART;TZID=UTC:20250617T093000
DTEND;TZID=UTC:20250617T143000
DTSTAMP:20260423T014708
CREATED:20250516T110240Z
LAST-MODIFIED:20250516T110240Z
UID:4614-1750152600-1750170600@www.allsaintsilkley.bradford.sch.uk
SUMMARY:Key Stage 2 Sports Day
DESCRIPTION:
URL:https://www.allsaintsilkley.bradford.sch.uk/event/key-stage-2-sports-day/
LOCATION:Ilkley Rugby Club
END:VEVENT
BEGIN:VEVENT
DTSTART;TZID=UTC:20250618T133000
DTEND;TZID=UTC:20250618T143000
DTSTAMP:20260423T014708
CREATED:20250516T110353Z
LAST-MODIFIED:20250516T110353Z
UID:4616-1750253400-1750257000@www.allsaintsilkley.bradford.sch.uk
SUMMARY:Key Stage 1 Sports Afternoon
DESCRIPTION:
URL:https://www.allsaintsilkley.bradford.sch.uk/event/key-stage-1-sports-afternoon/
END:VEVENT
BEGIN:VEVENT
DTSTART;VALUE=DATE:20250619
DTEND;VALUE=DATE:20250620
DTSTAMP:20260423T014708
CREATED:20250522T110115Z
LAST-MODIFIED:20250522T110212Z
UID:4638-1750291200-1750377599@www.allsaintsilkley.bradford.sch.uk
SUMMARY:Reception trip to Nell Bank
DESCRIPTION:Reception trip to Nell Bank
URL:https://www.allsaintsilkley.bradford.sch.uk/event/reception-trip-to-nell-bank/
END:VEVENT
BEGIN:VEVENT
DTSTART;TZID=UTC:20250620T090000
DTEND;TZID=UTC:20250620T143000
DTSTAMP:20260423T014708
CREATED:20250612T110750Z
LAST-MODIFIED:20250612T110750Z
UID:4734-1750410000-1750429800@www.allsaintsilkley.bradford.sch.uk
SUMMARY:IGS Discovery Day 9:00-9:10
DESCRIPTION:
URL:https://www.allsaintsilkley.bradford.sch.uk/event/igs-discovery-day-900-910/
END:VEVENT
END:VCALENDAR