BEGIN:VCALENDAR
VERSION:2.0
PRODID:-//All Saints&#039; CE - ECPv6.15.17.1//NONSGML v1.0//EN
CALSCALE:GREGORIAN
METHOD:PUBLISH
X-ORIGINAL-URL:https://www.allsaintsilkley.bradford.sch.uk
X-WR-CALDESC:Events for All Saints&#039; CE
REFRESH-INTERVAL;VALUE=DURATION:PT1H
X-Robots-Tag:noindex
X-PUBLISHED-TTL:PT1H
BEGIN:VTIMEZONE
TZID:UTC
BEGIN:STANDARD
TZOFFSETFROM:+0000
TZOFFSETTO:+0000
TZNAME:UTC
DTSTART:20240101T000000
END:STANDARD
END:VTIMEZONE
BEGIN:VEVENT
DTSTART;TZID=UTC:20250505T080000
DTEND;TZID=UTC:20250505T170000
DTSTAMP:20260423T030552
CREATED:20240811T123434Z
LAST-MODIFIED:20240811T123434Z
UID:1919-1746432000-1746464400@www.allsaintsilkley.bradford.sch.uk
SUMMARY:May Bank Holiday - School Closed
DESCRIPTION:
URL:https://www.allsaintsilkley.bradford.sch.uk/event/may-bank-holiday-school-closed/
END:VEVENT
BEGIN:VEVENT
DTSTART;VALUE=DATE:20250508
DTEND;VALUE=DATE:20250509
DTSTAMP:20260423T030552
CREATED:20250401T183641Z
LAST-MODIFIED:20250401T183641Z
UID:4280-1746662400-1746748799@www.allsaintsilkley.bradford.sch.uk
SUMMARY:Year 1 / 2 trip to Harewood House
DESCRIPTION:
URL:https://www.allsaintsilkley.bradford.sch.uk/event/year-1-2-trip-to-harewood-house/
END:VEVENT
BEGIN:VEVENT
DTSTART;TZID=UTC:20250512T133000
DTEND;TZID=UTC:20250512T150000
DTSTAMP:20260423T030552
CREATED:20250425T112731Z
LAST-MODIFIED:20250425T112731Z
UID:4436-1747056600-1747062000@www.allsaintsilkley.bradford.sch.uk
SUMMARY:Year 5 BSL workshop
DESCRIPTION:
URL:https://www.allsaintsilkley.bradford.sch.uk/event/year-5-bsl-workshop/
END:VEVENT
BEGIN:VEVENT
DTSTART;TZID=UTC:20250519T120000
DTEND;TZID=UTC:20250519T153000
DTSTAMP:20260423T030552
CREATED:20250429T110050Z
LAST-MODIFIED:20250429T110050Z
UID:4491-1747656000-1747668600@www.allsaintsilkley.bradford.sch.uk
SUMMARY:Year 6 Rail Safety Trip to Leeds Station
DESCRIPTION:
URL:https://www.allsaintsilkley.bradford.sch.uk/event/year-6-rail-safety-trip-to-leeds-station/
END:VEVENT
BEGIN:VEVENT
DTSTART;TZID=UTC:20250519T133000
DTEND;TZID=UTC:20250519T143000
DTSTAMP:20260423T030552
CREATED:20250425T113229Z
LAST-MODIFIED:20250425T114216Z
UID:4439-1747661400-1747665000@www.allsaintsilkley.bradford.sch.uk
SUMMARY:Year 5 Fire Safety Talk
DESCRIPTION:
URL:https://www.allsaintsilkley.bradford.sch.uk/event/year-5-fire-safety-talk/
END:VEVENT
BEGIN:VEVENT
DTSTART;VALUE=DATE:20250520
DTEND;VALUE=DATE:20250521
DTSTAMP:20260423T030552
CREATED:20250401T171911Z
LAST-MODIFIED:20250401T171911Z
UID:4275-1747699200-1747785599@www.allsaintsilkley.bradford.sch.uk
SUMMARY:Year 3 Visit Linking Schools visit to Copthorne Primary
DESCRIPTION:
URL:https://www.allsaintsilkley.bradford.sch.uk/event/year-3-visit-linking-schools-visit-to-copthorne-primary/
END:VEVENT
BEGIN:VEVENT
DTSTART;TZID=UTC:20250520T090000
DTEND;TZID=UTC:20250520T150000
DTSTAMP:20260423T030552
CREATED:20250429T105856Z
LAST-MODIFIED:20250429T105856Z
UID:4489-1747731600-1747753200@www.allsaintsilkley.bradford.sch.uk
SUMMARY:Year 6 Brownlee Triathlon
DESCRIPTION:
URL:https://www.allsaintsilkley.bradford.sch.uk/event/year-6-brownlee-triathlon/
END:VEVENT
BEGIN:VEVENT
DTSTART;TZID=UTC:20250521T090000
DTEND;TZID=UTC:20250521T113000
DTSTAMP:20260423T030552
CREATED:20250501T093916Z
LAST-MODIFIED:20250501T093916Z
UID:4499-1747818000-1747827000@www.allsaintsilkley.bradford.sch.uk
SUMMARY:Year 6 'Stars'\, held at the King’s Hall in Ilkley.
DESCRIPTION:
URL:https://www.allsaintsilkley.bradford.sch.uk/event/year-6-stars-held-at-the-kings-hall-in-ilkley/
END:VEVENT
BEGIN:VEVENT
DTSTART;TZID=UTC:20250526T080000
DTEND;TZID=UTC:20250530T170000
DTSTAMP:20260423T030552
CREATED:20240811T123334Z
LAST-MODIFIED:20240811T123340Z
UID:1916-1748246400-1748624400@www.allsaintsilkley.bradford.sch.uk
SUMMARY:School Closed for Half-Term
DESCRIPTION:
URL:https://www.allsaintsilkley.bradford.sch.uk/event/school-closed-for-half-term-3/
END:VEVENT
END:VCALENDAR