BEGIN:VCALENDAR
VERSION:2.0
PRODID:-//All Saints&#039; CE - ECPv6.15.17.1//NONSGML v1.0//EN
CALSCALE:GREGORIAN
METHOD:PUBLISH
X-ORIGINAL-URL:https://www.allsaintsilkley.bradford.sch.uk
X-WR-CALDESC:Events for All Saints&#039; CE
REFRESH-INTERVAL;VALUE=DURATION:PT1H
X-Robots-Tag:noindex
X-PUBLISHED-TTL:PT1H
BEGIN:VTIMEZONE
TZID:UTC
BEGIN:STANDARD
TZOFFSETFROM:+0000
TZOFFSETTO:+0000
TZNAME:UTC
DTSTART:20240101T000000
END:STANDARD
END:VTIMEZONE
BEGIN:VEVENT
DTSTART;TZID=UTC:20250401T100000
DTEND;TZID=UTC:20250401T110000
DTSTAMP:20260423T044023
CREATED:20250320T153727Z
LAST-MODIFIED:20250320T153727Z
UID:4163-1743501600-1743505200@www.allsaintsilkley.bradford.sch.uk
SUMMARY:Easter Service  All Saints' Church
DESCRIPTION:
URL:https://www.allsaintsilkley.bradford.sch.uk/event/easter-service-all-saints-church/
END:VEVENT
BEGIN:VEVENT
DTSTART;VALUE=DATE:20250404
DTEND;VALUE=DATE:20250405
DTSTAMP:20260423T044023
CREATED:20250401T163902Z
LAST-MODIFIED:20250401T163902Z
UID:4269-1743724800-1743811199@www.allsaintsilkley.bradford.sch.uk
SUMMARY:PTA Spring Theme non uniform day
DESCRIPTION:Wear something Spring like!
URL:https://www.allsaintsilkley.bradford.sch.uk/event/pta-spring-theme-non-uniform-day/
END:VEVENT
BEGIN:VEVENT
DTSTART;TZID=UTC:20250404T090000
DTEND;TZID=UTC:20250404T100000
DTSTAMP:20260423T044023
CREATED:20250210T114903Z
LAST-MODIFIED:20250210T114903Z
UID:3740-1743757200-1743760800@www.allsaintsilkley.bradford.sch.uk
SUMMARY:YR Spring Show TBC
DESCRIPTION:
URL:https://www.allsaintsilkley.bradford.sch.uk/event/yr-spring-show-tbc/
END:VEVENT
BEGIN:VEVENT
DTSTART;TZID=UTC:20250407T080000
DTEND;TZID=UTC:20250421T170000
DTSTAMP:20260423T044023
CREATED:20240811T123224Z
LAST-MODIFIED:20240811T123224Z
UID:1914-1744012800-1745254800@www.allsaintsilkley.bradford.sch.uk
SUMMARY:School Closed for Easter
DESCRIPTION:
URL:https://www.allsaintsilkley.bradford.sch.uk/event/school-closed-for-easter/
END:VEVENT
BEGIN:VEVENT
DTSTART;VALUE=DATE:20250422
DTEND;VALUE=DATE:20250423
DTSTAMP:20260423T044023
CREATED:20250327T184235Z
LAST-MODIFIED:20250327T184235Z
UID:4207-1745280000-1745366399@www.allsaintsilkley.bradford.sch.uk
SUMMARY:Year 3 trip to Harlow Carr
DESCRIPTION:
URL:https://www.allsaintsilkley.bradford.sch.uk/event/year-3-trip-to-harlow-carr/
END:VEVENT
BEGIN:VEVENT
DTSTART;VALUE=DATE:20250423
DTEND;VALUE=DATE:20250424
DTSTAMP:20260423T044023
CREATED:20250327T184849Z
LAST-MODIFIED:20250327T184849Z
UID:4212-1745366400-1745452799@www.allsaintsilkley.bradford.sch.uk
SUMMARY:Year 5 trip to Yorkshire Sculpture Park
DESCRIPTION:
URL:https://www.allsaintsilkley.bradford.sch.uk/event/year-5-trip-to-yorkshire-sculpture-park/
END:VEVENT
BEGIN:VEVENT
DTSTART;TZID=UTC:20250425T080000
DTEND;TZID=UTC:20250425T170000
DTSTAMP:20260423T044023
CREATED:20250423T103039Z
LAST-MODIFIED:20250423T103039Z
UID:4423-1745568000-1745600400@www.allsaintsilkley.bradford.sch.uk
SUMMARY:Non uniform day-Stevie's fundraiser for Millie Wright Charity
DESCRIPTION:
URL:https://www.allsaintsilkley.bradford.sch.uk/event/non-uniform-day-stevies-fundraiser-for-millie-wright-charity/
END:VEVENT
BEGIN:VEVENT
DTSTART;TZID=UTC:20250425T153000
DTEND;TZID=UTC:20250425T160000
DTSTAMP:20260423T044023
CREATED:20250425T112024Z
LAST-MODIFIED:20250425T112024Z
UID:4434-1745595000-1745596800@www.allsaintsilkley.bradford.sch.uk
SUMMARY:After school PTA bake sale KS1 yard
DESCRIPTION:
URL:https://www.allsaintsilkley.bradford.sch.uk/event/after-school-pta-bake-sale-ks1-yard/
END:VEVENT
BEGIN:VEVENT
DTSTART;TZID=UTC:20250429T090000
DTEND;TZID=UTC:20250429T093000
DTSTAMP:20260423T044023
CREATED:20250423T103416Z
LAST-MODIFIED:20250423T103416Z
UID:4425-1745917200-1745919000@www.allsaintsilkley.bradford.sch.uk
SUMMARY:Dragonfly Class Collective Worship
DESCRIPTION:
URL:https://www.allsaintsilkley.bradford.sch.uk/event/dragonfly-class-collective-worship/
END:VEVENT
BEGIN:VEVENT
DTSTART;TZID=UTC:20250429T090000
DTEND;TZID=UTC:20250429T120000
DTSTAMP:20260423T044023
CREATED:20250425T114307Z
LAST-MODIFIED:20250425T114307Z
UID:4441-1745917200-1745928000@www.allsaintsilkley.bradford.sch.uk
SUMMARY:Reception Middleton Woods Walk
DESCRIPTION:
URL:https://www.allsaintsilkley.bradford.sch.uk/event/reception-middleton-woods-walk/
END:VEVENT
END:VCALENDAR