BEGIN:VCALENDAR
VERSION:2.0
PRODID:-//All Saints&#039; CE - ECPv6.15.17.1//NONSGML v1.0//EN
CALSCALE:GREGORIAN
METHOD:PUBLISH
X-WR-CALNAME:All Saints&#039; CE
X-ORIGINAL-URL:https://www.allsaintsilkley.bradford.sch.uk
X-WR-CALDESC:Events for All Saints&#039; CE
REFRESH-INTERVAL;VALUE=DURATION:PT1H
X-Robots-Tag:noindex
X-PUBLISHED-TTL:PT1H
BEGIN:VTIMEZONE
TZID:UTC
BEGIN:STANDARD
TZOFFSETFROM:+0000
TZOFFSETTO:+0000
TZNAME:UTC
DTSTART:20240101T000000
END:STANDARD
END:VTIMEZONE
BEGIN:VEVENT
DTSTART;TZID=UTC:20250301T083000
DTEND;TZID=UTC:20250301T123000
DTSTAMP:20260423T061157
CREATED:20241208T190052Z
LAST-MODIFIED:20241208T190052Z
UID:3087-1740817800-1740832200@www.allsaintsilkley.bradford.sch.uk
SUMMARY:Ashlands Cross Country (provisional)
DESCRIPTION:
URL:https://www.allsaintsilkley.bradford.sch.uk/event/ashlands-cross-country-provisional/
END:VEVENT
BEGIN:VEVENT
DTSTART;TZID=UTC:20250304T080000
DTEND;TZID=UTC:20250304T130000
DTSTAMP:20260423T061157
CREATED:20250207T105423Z
LAST-MODIFIED:20250214T112603Z
UID:3721-1741075200-1741093200@www.allsaintsilkley.bradford.sch.uk
SUMMARY:Y3 Hedgehogs to All Saints' Church with Copthorne
DESCRIPTION:Y3 Hedgehogs are going to All Saints’ Church on Tuesday 4th March.\n\n\n  \nReminders: \n-Walking to and from the church within the normal school day. \n-Children should come to school wearing their school uniform\, a comfortable pair of shoes and a waterproof coat. \n-No need to give consent as already given under Local Visits consent. \n-Packed lunches (and snack) will be provided for all children who normally have school meals. \n 
URL:https://www.allsaintsilkley.bradford.sch.uk/event/y3-trip-to-all-saints-church-with-copthorne/
END:VEVENT
BEGIN:VEVENT
DTSTART;TZID=UTC:20250304T090000
DTEND;TZID=UTC:20250304T100000
DTSTAMP:20260423T061157
CREATED:20250210T113759Z
LAST-MODIFIED:20250210T113759Z
UID:3730-1741078800-1741082400@www.allsaintsilkley.bradford.sch.uk
SUMMARY:Badger Collective Worship TBC
DESCRIPTION:
URL:https://www.allsaintsilkley.bradford.sch.uk/event/badger-collective-worship-tbc/
END:VEVENT
BEGIN:VEVENT
DTSTART;TZID=UTC:20250306T090000
DTEND;TZID=UTC:20250306T153000
DTSTAMP:20260423T061157
CREATED:20250203T131244Z
LAST-MODIFIED:20250203T131244Z
UID:3579-1741251600-1741275000@www.allsaintsilkley.bradford.sch.uk
SUMMARY:Y3 Trip Abbey House Museum\, Leeds
DESCRIPTION:
URL:https://www.allsaintsilkley.bradford.sch.uk/event/y3-trip-abbey-house-museum-leeds/
END:VEVENT
BEGIN:VEVENT
DTSTART;TZID=UTC:20250310T121500
DTEND;TZID=UTC:20250321T124500
DTSTAMP:20260423T061157
CREATED:20250210T114034Z
LAST-MODIFIED:20250210T114034Z
UID:3734-1741608900-1742561100@www.allsaintsilkley.bradford.sch.uk
SUMMARY:Y3 Parent Lunches
DESCRIPTION:
URL:https://www.allsaintsilkley.bradford.sch.uk/event/y3-parent-lunches/
END:VEVENT
BEGIN:VEVENT
DTSTART;TZID=UTC:20250311T090000
DTEND;TZID=UTC:20250311T100000
DTSTAMP:20260423T061157
CREATED:20250210T113923Z
LAST-MODIFIED:20250210T113923Z
UID:3732-1741683600-1741687200@www.allsaintsilkley.bradford.sch.uk
SUMMARY:Otter Collective Worship
DESCRIPTION:
URL:https://www.allsaintsilkley.bradford.sch.uk/event/otter-collective-worship/
END:VEVENT
BEGIN:VEVENT
DTSTART;TZID=UTC:20250315T083000
DTEND;TZID=UTC:20250315T123000
DTSTAMP:20260423T061157
CREATED:20241208T190155Z
LAST-MODIFIED:20241208T190155Z
UID:3089-1742027400-1742041800@www.allsaintsilkley.bradford.sch.uk
SUMMARY:Nell Bank Cross Country (KS2 - invited pupils only)
DESCRIPTION:
URL:https://www.allsaintsilkley.bradford.sch.uk/event/nell-bank-cross-country-ks2-invited-pupils-only/
END:VEVENT
BEGIN:VEVENT
DTSTART;VALUE=DATE:20250321
DTEND;VALUE=DATE:20250322
DTSTAMP:20260423T061157
CREATED:20250227T120023Z
LAST-MODIFIED:20250227T120023Z
UID:3920-1742515200-1742601599@www.allsaintsilkley.bradford.sch.uk
SUMMARY:Comic Relief Day in school
DESCRIPTION:
URL:https://www.allsaintsilkley.bradford.sch.uk/event/comic-relief-day-in-school/
END:VEVENT
BEGIN:VEVENT
DTSTART;TZID=UTC:20250324T080000
DTEND;TZID=UTC:20250326T170000
DTSTAMP:20260423T061157
CREATED:20250210T114155Z
LAST-MODIFIED:20250210T114155Z
UID:3736-1742803200-1743008400@www.allsaintsilkley.bradford.sch.uk
SUMMARY:Bikeability L2
DESCRIPTION:
URL:https://www.allsaintsilkley.bradford.sch.uk/event/bikeability-l2/
END:VEVENT
BEGIN:VEVENT
DTSTART;TZID=UTC:20250325T110000
DTEND;TZID=UTC:20250325T140000
DTSTAMP:20260423T061157
CREATED:20250306T114430Z
LAST-MODIFIED:20250306T114430Z
UID:3963-1742900400-1742911200@www.allsaintsilkley.bradford.sch.uk
SUMMARY:Squirrels Linking Schools church visit with Copthorne
DESCRIPTION:
URL:https://www.allsaintsilkley.bradford.sch.uk/event/squirrels-linking-schools-church-visit-with-copthorne/
END:VEVENT
BEGIN:VEVENT
DTSTART;TZID=UTC:20250327T170000
DTEND;TZID=UTC:20250327T190000
DTSTAMP:20260423T061157
CREATED:20250210T114254Z
LAST-MODIFIED:20250210T114254Z
UID:3738-1743094800-1743102000@www.allsaintsilkley.bradford.sch.uk
SUMMARY:Full Governing Body Meeting
DESCRIPTION:
URL:https://www.allsaintsilkley.bradford.sch.uk/event/full-governing-body-meeting-2/
END:VEVENT
END:VCALENDAR