BEGIN:VCALENDAR
VERSION:2.0
PRODID:-//All Saints&#039; CE - ECPv6.15.17.1//NONSGML v1.0//EN
CALSCALE:GREGORIAN
METHOD:PUBLISH
X-WR-CALNAME:All Saints&#039; CE
X-ORIGINAL-URL:https://www.allsaintsilkley.bradford.sch.uk
X-WR-CALDESC:Events for All Saints&#039; CE
REFRESH-INTERVAL;VALUE=DURATION:PT1H
X-Robots-Tag:noindex
X-PUBLISHED-TTL:PT1H
BEGIN:VTIMEZONE
TZID:UTC
BEGIN:STANDARD
TZOFFSETFROM:+0000
TZOFFSETTO:+0000
TZNAME:UTC
DTSTART:20240101T000000
END:STANDARD
END:VTIMEZONE
BEGIN:VEVENT
DTSTART;TZID=UTC:20250201T083000
DTEND;TZID=UTC:20250201T123000
DTSTAMP:20260423T074119
CREATED:20241208T185930Z
LAST-MODIFIED:20241208T185930Z
UID:3083-1738398600-1738413000@www.allsaintsilkley.bradford.sch.uk
SUMMARY:Ben Rhydding Cross Country
DESCRIPTION:
URL:https://www.allsaintsilkley.bradford.sch.uk/event/ben-rhydding-cross-country/
END:VEVENT
BEGIN:VEVENT
DTSTART;TZID=UTC:20250203T080000
DTEND;TZID=UTC:20250207T170000
DTSTAMP:20260423T074119
CREATED:20250127T061323Z
LAST-MODIFIED:20250127T061323Z
UID:3558-1738569600-1738947600@www.allsaintsilkley.bradford.sch.uk
SUMMARY:Children's Mental Health Awareness Week
DESCRIPTION:
URL:https://www.allsaintsilkley.bradford.sch.uk/event/childrens-mental-health-awareness-week/
END:VEVENT
BEGIN:VEVENT
DTSTART;TZID=UTC:20250203T090000
DTEND;TZID=UTC:20250203T152000
DTSTAMP:20260423T074119
CREATED:20241212T055653Z
LAST-MODIFIED:20250123T203040Z
UID:3141-1738573200-1738596000@www.allsaintsilkley.bradford.sch.uk
SUMMARY:Y5 Trip Saxon Day - Murton Park\, York
DESCRIPTION:Y5 Trip to Murton Park\, York (Saxons) – Monday 3rd February \n  \nDear Parents/Carers\, \n  \nAs part of our topic on Anglo-Saxons\, we have arranged for the children in Year 5 to visit Danelaw\, Murton Park\, York on Monday 3rd February 2025 where we will be taking part in an Anglo-Saxon themed workshop. \n  \nWe will be travelling by coach. \n  \nPlease ensure that your child is dropped off at school at 8:10 on Monday 3rd February. \n  \nAt the end of the day\, we will arrive back at school at 16:30. \n  \nAny children who are booked in to Little Saints’ after-school club will then be accompanied to the hall. \n  \nThe children should come to school wearing their normal school uniform. They will need sensible shoes or trainers along with a small backpack to hold their water bottle and food for the day. Please note that they do not need any money for the visit. \n  \nPacked lunches will be provided for those children who have school meals. Those children who are signed up for tuck will also be provided with a morning snack. If your child normally brings a packed lunch to school\, please send them with one as normal. Please could we politely ask that you do not include products containing nuts or fizzy drinks. \n  \nPlease can we ask that you give your consent for  to attend the visit via Arbor/Trips/Y5 Murton Park. \n  \nIn keeping with the Governing Body’s policy regarding Charges for School Activities\, you are invited to make a voluntary contribution of £17.00 towards the cost of this visit. This will cover the cost of entry to the museum\, the workshop and the coach hire. Please be aware that if insufficient donations are received\, the visit may not go ahead. \n  \nWe are in need of 4 adult volunteers to accompany us on this visit. If you would like to volunteer\, please contact the school office. Due to the size of the coach\, we are only able to take 4 volunteers so please don’t be offended if we get more names and can’t take you up on your offer! \n  \nKind regards\, \nMrs Quinlan and Mrs Hetherton
URL:https://www.allsaintsilkley.bradford.sch.uk/event/y5-trip-saxon-day-murton-park-york/
END:VEVENT
BEGIN:VEVENT
DTSTART;TZID=UTC:20250207T080000
DTEND;TZID=UTC:20250207T170000
DTSTAMP:20260423T074119
CREATED:20250127T061251Z
LAST-MODIFIED:20250127T061251Z
UID:3560-1738915200-1738947600@www.allsaintsilkley.bradford.sch.uk
SUMMARY:NSPCC Number Day
DESCRIPTION:
URL:https://www.allsaintsilkley.bradford.sch.uk/event/nspcc-number-day/
END:VEVENT
BEGIN:VEVENT
DTSTART;TZID=UTC:20250208T083000
DTEND;TZID=UTC:20250208T123000
DTSTAMP:20260423T074119
CREATED:20241208T190011Z
LAST-MODIFIED:20241208T190011Z
UID:3085-1739003400-1739017800@www.allsaintsilkley.bradford.sch.uk
SUMMARY:Ghyll Royd Cross Country
DESCRIPTION:
URL:https://www.allsaintsilkley.bradford.sch.uk/event/ghyll-royd-cross-country/
END:VEVENT
BEGIN:VEVENT
DTSTART;TZID=UTC:20250210T084000
DTEND;TZID=UTC:20250210T130000
DTSTAMP:20260423T074119
CREATED:20250127T061758Z
LAST-MODIFIED:20250127T061828Z
UID:3562-1739176800-1739192400@www.allsaintsilkley.bradford.sch.uk
SUMMARY:Y6 Trip to IGS - Les Miserables
DESCRIPTION:Dear Parents/Carers\,\n\nOur Year 6 children have been invited to Ilkley Grammar School\, on Monday 10th February\, to see their drama department’s rehearsal showing of Les Misérables. \n\n\nIn the past\, it has been customary that children from local schools are invited to such events\, affording them the chance to be entertained\, whilst acting as an opportunity for children to get the chance to sample some of the IGS experience. We do acknowledge that not all children from our current Year 6 cohort will be attending IGS from September\, but they are still very much welcome. \n\nThe performance takes place during normal school hours\, from 9:00am until approximately 11:30am. Therefore\, children will need to come directly to IGS\, in the morning\, rather than All Saints’. We ask that children make their way to the ‘top entrance’ at IGS\, located at the top of Cowpasture Road\, between 8:40am – 8:50am\, ready for the performance’s commencement. Familiar adults from All Saints’ will be located in this area\, from this time to ensure that children are safely collected. These adults will remain with them during the performance.\n\nChildren attending Little Saints’ Breakfast Club will be accompanied to IGS by members of our staff\, at around 8:20am. In addition\, children who receive snack from school will be provided with this at IGS.\n\nConsent is needed for each child. Please go to Trips in Arbor and Yr6 Les Mis and consent by Friday 17th January 2025.\n\nDue to the nature of the show’s content\, IGS have provided us with the following information:\n” Please note\, this is a long show and although we have made it school friendly\, it is a more serious and solemn show. “\n\nWe understand if you would not like your child to attend this production. If this is the case\, they should arrive at All Saints’ as normal on the Monday morning.\nAs the performance finishes during school hours\, those adults on site with the children will bring them back to All Saints’ to continue their learning for the rest of the day\, ready for a normal pick up on site\, at 3:20pm.We apologise for any inconvenience caused with regards to dropping your children off at IGS\, but anticipate a great morning. If there are any questions/queries\, please do not hesitate to get in touch. \n\nDo you Hear the People Sing!\n\nYear 6 team
URL:https://www.allsaintsilkley.bradford.sch.uk/event/y6-trip-to-igs-les-miserables/
END:VEVENT
BEGIN:VEVENT
DTSTART;TZID=UTC:20250214T080000
DTEND;TZID=UTC:20250214T170000
DTSTAMP:20260423T074119
CREATED:20250214T112651Z
LAST-MODIFIED:20250214T112651Z
UID:3809-1739520000-1739552400@www.allsaintsilkley.bradford.sch.uk
SUMMARY:Y3 Squirrels to All Saints' Church with Copthorne
DESCRIPTION:Y3 Hedgehogs are going to All Saints’ Church on Tuesday 4th March.\n\n\n  \nReminders: \n-Walking to and from the church within the normal school day. \n-Children should come to school wearing their school uniform\, a comfortable pair of shoes and a waterproof coat. \n-No need to give consent as already given under Local Visits consent. \n-Packed lunches (and snack) will be provided for all children who normally have school meals. \n\n\n 
URL:https://www.allsaintsilkley.bradford.sch.uk/event/y3-squirrels-to-all-saints-church-with-copthorne/
END:VEVENT
BEGIN:VEVENT
DTSTART;TZID=UTC:20250214T091500
DTEND;TZID=UTC:20250214T100000
DTSTAMP:20260423T074119
CREATED:20250127T061959Z
LAST-MODIFIED:20250127T061959Z
UID:3565-1739524500-1739527200@www.allsaintsilkley.bradford.sch.uk
SUMMARY:Y1 St Valentine's Performance TBC
DESCRIPTION:
URL:https://www.allsaintsilkley.bradford.sch.uk/event/y1-st-valentines-performance-tbc/
END:VEVENT
BEGIN:VEVENT
DTSTART;TZID=UTC:20250217T080000
DTEND;TZID=UTC:20250221T170000
DTSTAMP:20260423T074119
CREATED:20240811T122944Z
LAST-MODIFIED:20240811T123110Z
UID:1912-1739779200-1740157200@www.allsaintsilkley.bradford.sch.uk
SUMMARY:School Closed for Half-Term
DESCRIPTION:
URL:https://www.allsaintsilkley.bradford.sch.uk/event/school-closed-for-half-term-2/
END:VEVENT
BEGIN:VEVENT
DTSTART;TZID=UTC:20250225T034000
DTEND;TZID=UTC:20250225T180000
DTSTAMP:20260423T074119
CREATED:20250207T141515Z
LAST-MODIFIED:20250207T141515Z
UID:3725-1740454800-1740506400@www.allsaintsilkley.bradford.sch.uk
SUMMARY:Parents Consultation Evening
DESCRIPTION:
URL:https://www.allsaintsilkley.bradford.sch.uk/event/parents-consultation-evening/
END:VEVENT
BEGIN:VEVENT
DTSTART;TZID=UTC:20250227T034000
DTEND;TZID=UTC:20250227T180000
DTSTAMP:20260423T074119
CREATED:20250207T141553Z
LAST-MODIFIED:20250207T141553Z
UID:3727-1740627600-1740679200@www.allsaintsilkley.bradford.sch.uk
SUMMARY:Parents Evening Consultation
DESCRIPTION:
URL:https://www.allsaintsilkley.bradford.sch.uk/event/parents-evening-consultation/
END:VEVENT
BEGIN:VEVENT
DTSTART;TZID=UTC:20250227T080000
DTEND;TZID=UTC:20250227T123000
DTSTAMP:20260423T074119
CREATED:20250203T130001Z
LAST-MODIFIED:20250203T130001Z
UID:3577-1740643200-1740659400@www.allsaintsilkley.bradford.sch.uk
SUMMARY:Y4 Trip King's Hall\, Ilkley - Sing Together
DESCRIPTION:Year 4 are going to King’s Hall\, Ilkley tomorrow\, Thursday 27th January.\n\n\n  \nReminders: \n-Walking to and from King’s Hall within the normal school day. \n-No need to give consent as this trip is already covered under consent for local visits. \n-Children should come to school wearing their school uniform\, a comfortable pair of shoes and a waterproof coat. \n-Children should bring their water bottle with them. \n-Snack will be provided for all children who normally have one.
URL:https://www.allsaintsilkley.bradford.sch.uk/event/y4-trip-kings-hall-ilkley-sing-together/
END:VEVENT
END:VCALENDAR