BEGIN:VCALENDAR
VERSION:2.0
PRODID:-//All Saints&#039; CE - ECPv6.15.17.1//NONSGML v1.0//EN
CALSCALE:GREGORIAN
METHOD:PUBLISH
X-ORIGINAL-URL:https://www.allsaintsilkley.bradford.sch.uk
X-WR-CALDESC:Events for All Saints&#039; CE
REFRESH-INTERVAL;VALUE=DURATION:PT1H
X-Robots-Tag:noindex
X-PUBLISHED-TTL:PT1H
BEGIN:VTIMEZONE
TZID:UTC
BEGIN:STANDARD
TZOFFSETFROM:+0000
TZOFFSETTO:+0000
TZNAME:UTC
DTSTART:20230101T000000
END:STANDARD
END:VTIMEZONE
BEGIN:VEVENT
DTSTART;TZID=UTC:20241223T080000
DTEND;TZID=UTC:20250103T170000
DTSTAMP:20260423T090943
CREATED:20240811T122742Z
LAST-MODIFIED:20240811T122742Z
UID:1908-1734940800-1735923600@www.allsaintsilkley.bradford.sch.uk
SUMMARY:School Closed for Christmas
DESCRIPTION:
URL:https://www.allsaintsilkley.bradford.sch.uk/event/school-closed-for-christmas/
END:VEVENT
BEGIN:VEVENT
DTSTART;TZID=UTC:20250106T080000
DTEND;TZID=UTC:20250106T170000
DTSTAMP:20260423T090943
CREATED:20240811T122844Z
LAST-MODIFIED:20240811T122844Z
UID:1910-1736150400-1736182800@www.allsaintsilkley.bradford.sch.uk
SUMMARY:School reopens for all children
DESCRIPTION:
URL:https://www.allsaintsilkley.bradford.sch.uk/event/school-reopens-for-all-children/
END:VEVENT
BEGIN:VEVENT
DTSTART;TZID=UTC:20250118T090000
DTEND;TZID=UTC:20250118T120000
DTSTAMP:20260423T090943
CREATED:20241208T185731Z
LAST-MODIFIED:20241208T185731Z
UID:3080-1737190800-1737201600@www.allsaintsilkley.bradford.sch.uk
SUMMARY:Addingham Cross Country (KS2 only)
DESCRIPTION:
URL:https://www.allsaintsilkley.bradford.sch.uk/event/addingham-cross-country-ks2-only/
END:VEVENT
BEGIN:VEVENT
DTSTART;TZID=UTC:20250120T080000
DTEND;TZID=UTC:20250131T170000
DTSTAMP:20260423T090943
CREATED:20241212T053816Z
LAST-MODIFIED:20241212T053816Z
UID:3125-1737360000-1738342800@www.allsaintsilkley.bradford.sch.uk
SUMMARY:Y1 & Y6 Parent Lunches
DESCRIPTION:Maximum of two places per pupil – £4.50 each.
URL:https://www.allsaintsilkley.bradford.sch.uk/event/y1-y6-parent-lunches/
END:VEVENT
BEGIN:VEVENT
DTSTART;TZID=UTC:20250122T090000
DTEND;TZID=UTC:20250122T220000
DTSTAMP:20260423T090943
CREATED:20241212T053923Z
LAST-MODIFIED:20250117T141255Z
UID:3127-1737536400-1737583200@www.allsaintsilkley.bradford.sch.uk
SUMMARY:Deer Class Collective Worship and Class Visit
DESCRIPTION:
URL:https://www.allsaintsilkley.bradford.sch.uk/event/deer-class-collective-worship/
END:VEVENT
BEGIN:VEVENT
DTSTART;TZID=UTC:20250128T090000
DTEND;TZID=UTC:20250128T100000
DTSTAMP:20260423T090943
CREATED:20241212T054345Z
LAST-MODIFIED:20241212T054345Z
UID:3132-1738054800-1738058400@www.allsaintsilkley.bradford.sch.uk
SUMMARY:Wildcat Collective Worship and Class Visit
DESCRIPTION:
URL:https://www.allsaintsilkley.bradford.sch.uk/event/wildcat-collective-worship-and-class-visit/
END:VEVENT
BEGIN:VEVENT
DTSTART;TZID=UTC:20250130T090000
DTEND;TZID=UTC:20250130T152000
DTSTAMP:20260423T090943
CREATED:20241212T054457Z
LAST-MODIFIED:20250110T115847Z
UID:3134-1738227600-1738250400@www.allsaintsilkley.bradford.sch.uk
SUMMARY:Y4 Trip Leeds Museum
DESCRIPTION:Year 4 are going to Leeds City Museum on Thursday 30th January.\n\n\nReminders: \n-Travelling to and from Leeds by coach within the normal school day. \n-Children should come to school wearing their school uniform\, a comfortable pair of shoes and a waterproof coat. \n-Children should bring a small backpack and their water bottle with them. \n-Packed lunches and snack will be provided for all children who normally have school meals. \n-If you child is bringing a packed lunch from home\, please do not include items which contain nuts. \n-Your child does not need any money for this visit.
URL:https://www.allsaintsilkley.bradford.sch.uk/event/y4-trip-leeds-museum/
END:VEVENT
BEGIN:VEVENT
DTSTART;TZID=UTC:20250130T170000
DTEND;TZID=UTC:20250130T200000
DTSTAMP:20260423T090943
CREATED:20241212T054548Z
LAST-MODIFIED:20241212T054548Z
UID:3136-1738256400-1738267200@www.allsaintsilkley.bradford.sch.uk
SUMMARY:Full Governors Meeting
DESCRIPTION:
URL:https://www.allsaintsilkley.bradford.sch.uk/event/full-governors-meeting/
END:VEVENT
END:VCALENDAR