BEGIN:VCALENDAR
VERSION:2.0
PRODID:-//All Saints&#039; CE - ECPv6.15.17.1//NONSGML v1.0//EN
CALSCALE:GREGORIAN
METHOD:PUBLISH
X-WR-CALNAME:All Saints&#039; CE
X-ORIGINAL-URL:https://www.allsaintsilkley.bradford.sch.uk
X-WR-CALDESC:Events for All Saints&#039; CE
REFRESH-INTERVAL;VALUE=DURATION:PT1H
X-Robots-Tag:noindex
X-PUBLISHED-TTL:PT1H
BEGIN:VTIMEZONE
TZID:UTC
BEGIN:STANDARD
TZOFFSETFROM:+0000
TZOFFSETTO:+0000
TZNAME:UTC
DTSTART:20230101T000000
END:STANDARD
END:VTIMEZONE
BEGIN:VEVENT
DTSTART;TZID=UTC:20241203T080000
DTEND;TZID=UTC:20241203T170000
DTSTAMP:20260423T105238
CREATED:20241122T142757Z
LAST-MODIFIED:20241122T142757Z
UID:2908-1733212800-1733245200@www.allsaintsilkley.bradford.sch.uk
SUMMARY:Individual & Sibling Photos
DESCRIPTION:
URL:https://www.allsaintsilkley.bradford.sch.uk/event/individual-sibling-photos/
END:VEVENT
BEGIN:VEVENT
DTSTART;TZID=UTC:20241204T093000
DTEND;TZID=UTC:20241204T150000
DTSTAMP:20260423T105238
CREATED:20241114T043304Z
LAST-MODIFIED:20241114T043304Z
UID:2803-1733304600-1733324400@www.allsaintsilkley.bradford.sch.uk
SUMMARY:Y5 Visit from River Bus
DESCRIPTION:
URL:https://www.allsaintsilkley.bradford.sch.uk/event/y5-visit-from-river-bus/
END:VEVENT
BEGIN:VEVENT
DTSTART;TZID=UTC:20241205T100000
DTEND;TZID=UTC:20241205T100000
DTSTAMP:20260423T105238
CREATED:20241021T094519Z
LAST-MODIFIED:20241204T065541Z
UID:2407-1733392800-1733392800@www.allsaintsilkley.bradford.sch.uk
SUMMARY:Rocksteady Concert
DESCRIPTION:Parents please arrive at 9:50am to start at 10am.
URL:https://www.allsaintsilkley.bradford.sch.uk/event/rocksteady-concert/
END:VEVENT
BEGIN:VEVENT
DTSTART;TZID=UTC:20241205T170000
DTEND;TZID=UTC:20241205T200000
DTSTAMP:20260423T105238
CREATED:20241021T094656Z
LAST-MODIFIED:20241021T094656Z
UID:2409-1733418000-1733428800@www.allsaintsilkley.bradford.sch.uk
SUMMARY:Governing Body Meeting
DESCRIPTION:
URL:https://www.allsaintsilkley.bradford.sch.uk/event/governing-body-meeting/
END:VEVENT
BEGIN:VEVENT
DTSTART;TZID=UTC:20241206T093000
DTEND;TZID=UTC:20241206T113000
DTSTAMP:20260423T105238
CREATED:20241021T095755Z
LAST-MODIFIED:20241204T065638Z
UID:2420-1733477400-1733484600@www.allsaintsilkley.bradford.sch.uk
SUMMARY:Rocksteady Concert
DESCRIPTION:Parents please arrive at 9:20 to start at 9:30.
URL:https://www.allsaintsilkley.bradford.sch.uk/event/rocksteady-concert-2/
END:VEVENT
BEGIN:VEVENT
DTSTART;TZID=UTC:20241209T180000
DTEND;TZID=UTC:20241209T190000
DTSTAMP:20260423T105238
CREATED:20241021T095251Z
LAST-MODIFIED:20241021T095251Z
UID:2411-1733767200-1733770800@www.allsaintsilkley.bradford.sch.uk
SUMMARY:Choir Performing at St Margaret's Church
DESCRIPTION:
URL:https://www.allsaintsilkley.bradford.sch.uk/event/choir-performing-at-st-margarets-church/
END:VEVENT
BEGIN:VEVENT
DTSTART;TZID=UTC:20241211T090000
DTEND;TZID=UTC:20241211T100000
DTSTAMP:20260423T105238
CREATED:20241021T095346Z
LAST-MODIFIED:20241204T065810Z
UID:2413-1733907600-1733911200@www.allsaintsilkley.bradford.sch.uk
SUMMARY:Reception Nativity
DESCRIPTION:Please note there is no restriction on the number of adults who can attend this event – please feel free to bring along your extended family.
URL:https://www.allsaintsilkley.bradford.sch.uk/event/reception-nativity/
END:VEVENT
BEGIN:VEVENT
DTSTART;TZID=UTC:20241213T080000
DTEND;TZID=UTC:20241213T170000
DTSTAMP:20260423T105238
CREATED:20241122T143849Z
LAST-MODIFIED:20241122T144027Z
UID:2910-1734076800-1734109200@www.allsaintsilkley.bradford.sch.uk
SUMMARY:Straven House Care Home Trip
DESCRIPTION:
URL:https://www.allsaintsilkley.bradford.sch.uk/event/straven-house-care-home-trip/
END:VEVENT
BEGIN:VEVENT
DTSTART;TZID=UTC:20241217T080000
DTEND;TZID=UTC:20241217T170000
DTSTAMP:20260423T105238
CREATED:20241122T144249Z
LAST-MODIFIED:20241122T144249Z
UID:2912-1734422400-1734454800@www.allsaintsilkley.bradford.sch.uk
SUMMARY:Christmas Lunch
DESCRIPTION:If your child normally has packed lunch and they would like a Christmas Dinner with all the trimmings (Vegetarian option available)\, please sign up via Arbor/School Shop by 6th December.
URL:https://www.allsaintsilkley.bradford.sch.uk/event/christmas-lunch/
END:VEVENT
BEGIN:VEVENT
DTSTART;TZID=UTC:20241217T080000
DTEND;TZID=UTC:20241217T170000
DTSTAMP:20260423T105238
CREATED:20241122T144335Z
LAST-MODIFIED:20241122T144335Z
UID:2914-1734422400-1734454800@www.allsaintsilkley.bradford.sch.uk
SUMMARY:Christmas Jumper Day
DESCRIPTION:
URL:https://www.allsaintsilkley.bradford.sch.uk/event/christmas-jumper-day/
END:VEVENT
BEGIN:VEVENT
DTSTART;TZID=UTC:20241217T180000
DTEND;TZID=UTC:20241217T190000
DTSTAMP:20260423T105238
CREATED:20241021T095553Z
LAST-MODIFIED:20241021T095553Z
UID:2416-1734458400-1734462000@www.allsaintsilkley.bradford.sch.uk
SUMMARY:Y3&4 Carol Service
DESCRIPTION:
URL:https://www.allsaintsilkley.bradford.sch.uk/event/y34-carol-service/
END:VEVENT
BEGIN:VEVENT
DTSTART;TZID=UTC:20241218T140000
DTEND;TZID=UTC:20241218T150000
DTSTAMP:20260423T105238
CREATED:20241021T095634Z
LAST-MODIFIED:20241021T095634Z
UID:2418-1734530400-1734534000@www.allsaintsilkley.bradford.sch.uk
SUMMARY:Y1&2 Carol Service
DESCRIPTION:
URL:https://www.allsaintsilkley.bradford.sch.uk/event/y12-carol-service/
END:VEVENT
BEGIN:VEVENT
DTSTART;TZID=UTC:20241223T080000
DTEND;TZID=UTC:20250103T170000
DTSTAMP:20260423T105238
CREATED:20240811T122742Z
LAST-MODIFIED:20240811T122742Z
UID:1908-1734940800-1735923600@www.allsaintsilkley.bradford.sch.uk
SUMMARY:School Closed for Christmas
DESCRIPTION:
URL:https://www.allsaintsilkley.bradford.sch.uk/event/school-closed-for-christmas/
END:VEVENT
END:VCALENDAR