BEGIN:VCALENDAR
VERSION:2.0
PRODID:-//All Saints&#039; CE - ECPv6.15.17.1//NONSGML v1.0//EN
CALSCALE:GREGORIAN
METHOD:PUBLISH
X-ORIGINAL-URL:https://www.allsaintsilkley.bradford.sch.uk
X-WR-CALDESC:Events for All Saints&#039; CE
REFRESH-INTERVAL;VALUE=DURATION:PT1H
X-Robots-Tag:noindex
X-PUBLISHED-TTL:PT1H
BEGIN:VTIMEZONE
TZID:UTC
BEGIN:STANDARD
TZOFFSETFROM:+0000
TZOFFSETTO:+0000
TZNAME:UTC
DTSTART:20230101T000000
END:STANDARD
END:VTIMEZONE
BEGIN:VEVENT
DTSTART;TZID=UTC:20241002T090000
DTEND;TZID=UTC:20241002T200000
DTSTAMP:20260423T133724
CREATED:20240922T052853Z
LAST-MODIFIED:20240922T052853Z
UID:2040-1727859600-1727899200@www.allsaintsilkley.bradford.sch.uk
SUMMARY:IGS Open Day/Evening
DESCRIPTION:
URL:https://www.allsaintsilkley.bradford.sch.uk/event/igs-open-day-evening/
END:VEVENT
BEGIN:VEVENT
DTSTART;TZID=UTC:20241002T133000
DTEND;TZID=UTC:20241002T150000
DTSTAMP:20260423T133724
CREATED:20240922T052536Z
LAST-MODIFIED:20240922T052536Z
UID:2034-1727875800-1727881200@www.allsaintsilkley.bradford.sch.uk
SUMMARY:Pine Marten Forest Schools
DESCRIPTION:On the days when your child has both PE and Forest Schools\, please could they come to school wearing their PE kit (long trousers please) and bring clothing suitable for Forest School in a named plastic bag: \n\nWaterproof coat (and trousers if possible)\nAn extra layer of clothing e.g. warm jumper\nAn additional pair of outdoor shoes/wellies
URL:https://www.allsaintsilkley.bradford.sch.uk/event/pine-marten-forest-schools/
END:VEVENT
BEGIN:VEVENT
DTSTART;TZID=UTC:20241004T090000
DTEND;TZID=UTC:20241004T120000
DTSTAMP:20260423T133724
CREATED:20240811T121812Z
LAST-MODIFIED:20240811T121812Z
UID:1886-1728032400-1728043200@www.allsaintsilkley.bradford.sch.uk
SUMMARY:Family Links – Parenting Group
DESCRIPTION:
URL:https://www.allsaintsilkley.bradford.sch.uk/event/family-links-parenting-group-4/
END:VEVENT
BEGIN:VEVENT
DTSTART;TZID=UTC:20241005T080000
DTEND;TZID=UTC:20241005T140000
DTSTAMP:20260423T133724
CREATED:20240922T053547Z
LAST-MODIFIED:20240922T053547Z
UID:2042-1728115200-1728136800@www.allsaintsilkley.bradford.sch.uk
SUMMARY:Cross Country
DESCRIPTION:Ilkley Rugby Club
URL:https://www.allsaintsilkley.bradford.sch.uk/event/cross-country/
END:VEVENT
BEGIN:VEVENT
DTSTART;TZID=UTC:20241008T090000
DTEND;TZID=UTC:20241008T113000
DTSTAMP:20260423T133724
CREATED:20240922T053659Z
LAST-MODIFIED:20240922T053659Z
UID:2045-1728378000-1728387000@www.allsaintsilkley.bradford.sch.uk
SUMMARY:Y6 Height & Weight Check
DESCRIPTION:
URL:https://www.allsaintsilkley.bradford.sch.uk/event/y6-height-weight-check/
END:VEVENT
BEGIN:VEVENT
DTSTART;TZID=UTC:20241009T080000
DTEND;TZID=UTC:20241009T170000
DTSTAMP:20260423T133724
CREATED:20241009T134958Z
LAST-MODIFIED:20241009T134958Z
UID:2199-1728460800-1728493200@www.allsaintsilkley.bradford.sch.uk
SUMMARY:Y5 Trip The Big Sing - St George's Hall\, Bradford
DESCRIPTION:Y5 Trip The Big Sing – St George’s Hall\, Bradford \nTravelling by coach \nLeaving at 8:30am – Returning to school 13.00pm \n 
URL:https://www.allsaintsilkley.bradford.sch.uk/event/y5-trip-the-big-sing-st-georges-hall-bradford/
END:VEVENT
BEGIN:VEVENT
DTSTART;TZID=UTC:20241009T133000
DTEND;TZID=UTC:20241009T150000
DTSTAMP:20260423T133724
CREATED:20240922T052611Z
LAST-MODIFIED:20240922T052611Z
UID:2036-1728480600-1728486000@www.allsaintsilkley.bradford.sch.uk
SUMMARY:Pine Marten Forest Schools
DESCRIPTION:On the days when your child has both PE and Forest Schools\, please could they come to school wearing their PE kit (long trousers please) and bring clothing suitable for Forest School in a named plastic bag: \n\nWaterproof coat (and trousers if possible)\nAn extra layer of clothing e.g. warm jumper\nAn additional pair of outdoor shoes/wellies
URL:https://www.allsaintsilkley.bradford.sch.uk/event/pine-marten-forest-schools-2/
END:VEVENT
BEGIN:VEVENT
DTSTART;TZID=UTC:20241011T080000
DTEND;TZID=UTC:20241011T170000
DTSTAMP:20260423T133724
CREATED:20240811T121940Z
LAST-MODIFIED:20240811T121940Z
UID:1890-1728633600-1728666000@www.allsaintsilkley.bradford.sch.uk
SUMMARY:Y6 Trip: York Chocolate Story
DESCRIPTION:
URL:https://www.allsaintsilkley.bradford.sch.uk/event/y6-trip-york-chocolate-story/
END:VEVENT
BEGIN:VEVENT
DTSTART;TZID=UTC:20241011T090000
DTEND;TZID=UTC:20241011T120000
DTSTAMP:20260423T133724
CREATED:20240811T121841Z
LAST-MODIFIED:20240811T121844Z
UID:1888-1728637200-1728648000@www.allsaintsilkley.bradford.sch.uk
SUMMARY:Family Links – Parenting Group
DESCRIPTION:
URL:https://www.allsaintsilkley.bradford.sch.uk/event/family-links-parenting-group-5/
END:VEVENT
BEGIN:VEVENT
DTSTART;TZID=UTC:20241016T133000
DTEND;TZID=UTC:20241016T150000
DTSTAMP:20260423T133724
CREATED:20240922T052642Z
LAST-MODIFIED:20240922T052642Z
UID:2038-1729085400-1729090800@www.allsaintsilkley.bradford.sch.uk
SUMMARY:Pine Marten Forest Schools
DESCRIPTION:On the days when your child has both PE and Forest Schools\, please could they come to school wearing their PE kit (long trousers please) and bring clothing suitable for Forest School in a named plastic bag: \n\nWaterproof coat (and trousers if possible)\nAn extra layer of clothing e.g. warm jumper\nAn additional pair of outdoor shoes/wellies
URL:https://www.allsaintsilkley.bradford.sch.uk/event/pine-marten-forest-schools-3/
END:VEVENT
BEGIN:VEVENT
DTSTART;TZID=UTC:20241017T080000
DTEND;TZID=UTC:20241017T170000
DTSTAMP:20260423T133724
CREATED:20240811T122205Z
LAST-MODIFIED:20240811T122205Z
UID:1896-1729152000-1729184400@www.allsaintsilkley.bradford.sch.uk
SUMMARY:Individual Photographs
DESCRIPTION:
URL:https://www.allsaintsilkley.bradford.sch.uk/event/individual-photographs/
END:VEVENT
BEGIN:VEVENT
DTSTART;TZID=UTC:20241018T080000
DTEND;TZID=UTC:20241018T150000
DTSTAMP:20260423T133724
CREATED:20240811T122231Z
LAST-MODIFIED:20240811T122231Z
UID:1898-1729238400-1729263600@www.allsaintsilkley.bradford.sch.uk
SUMMARY:Individual Photographs
DESCRIPTION:
URL:https://www.allsaintsilkley.bradford.sch.uk/event/individual-photographs-2/
END:VEVENT
BEGIN:VEVENT
DTSTART;TZID=UTC:20241018T090000
DTEND;TZID=UTC:20241018T120000
DTSTAMP:20260423T133724
CREATED:20240811T122115Z
LAST-MODIFIED:20240811T122115Z
UID:1894-1729242000-1729252800@www.allsaintsilkley.bradford.sch.uk
SUMMARY:Family Links – Parenting Group
DESCRIPTION:
URL:https://www.allsaintsilkley.bradford.sch.uk/event/family-links-parenting-group-7/
END:VEVENT
BEGIN:VEVENT
DTSTART;TZID=UTC:20241021T083000
DTEND;TZID=UTC:20241021T130000
DTSTAMP:20260423T133724
CREATED:20241011T130242Z
LAST-MODIFIED:20241011T130242Z
UID:2207-1729499400-1729515600@www.allsaintsilkley.bradford.sch.uk
SUMMARY:Y5 Trip Big Sing - St George's Hall
DESCRIPTION:Year 5 Visit: St George’s Hall\, Bradford for the Big Sing! – Monday 21st October \n\n\nDear Parents/Carers\, \n\n\nWe have arranged for the children in Year 5 to participate in The Big Sing at St George’s Hall on Monday 21st October. This is a fantastic event which really enhances the children’s musical learning. \n\n\nWe will be travelling to and from St George’s Hall by coach and will be leaving school at 8.30am and returning just after lunchtime. \n\n\nThe children should come to school wearing their normal school uniform\, sensible shoes/trainers and a waterproof coat. Please could they also bring a small backpack and a water bottle. \n\n\nThe kitchen staff will provide a packed lunch for those children who have have school meals. If your child usually brings a packed lunch to school\, please send them with one as normal. Please could we politely ask that you do not include products containing nuts or fizzy drinks. \n\n\nThe children will not need any spending money for the visit.  \n\n\nPlease can we ask that you give your consent for  to attend the visit via Arbor/Trips/Y5 The Big Sing. \n\n\nIn keeping with the Governing Body’s policy regarding Charges for School Activities\, you are invited to make a voluntary contribution of £7.00 towards the cost of transport. Please be aware that if insufficient donations are received\, the visit may not go ahead. \n\n\nWe will need four adult volunteers to help us on this visit. If you are able to offer your support\, please contact the school office.
URL:https://www.allsaintsilkley.bradford.sch.uk/event/y5-trip-big-sing-st-georges-hall/
END:VEVENT
BEGIN:VEVENT
DTSTART;VALUE=DATE:20241022
DTEND;VALUE=DATE:20241023
DTSTAMP:20260423T133724
CREATED:20240920T054758Z
LAST-MODIFIED:20240920T054805Z
UID:1992-1729555200-1729641599@www.allsaintsilkley.bradford.sch.uk
SUMMARY:Parents' Evening
DESCRIPTION:Times to be confirmed and booking invitations to be sent out nearer the time
URL:https://www.allsaintsilkley.bradford.sch.uk/event/parents-evening/
END:VEVENT
BEGIN:VEVENT
DTSTART;VALUE=DATE:20241023
DTEND;VALUE=DATE:20241024
DTSTAMP:20260423T133724
CREATED:20240920T054831Z
LAST-MODIFIED:20240920T054831Z
UID:1994-1729641600-1729727999@www.allsaintsilkley.bradford.sch.uk
SUMMARY:Parents' Evening
DESCRIPTION:Times to be confirmed and booking invitations to be sent out nearer the time
URL:https://www.allsaintsilkley.bradford.sch.uk/event/parents-evening-2/
END:VEVENT
BEGIN:VEVENT
DTSTART;TZID=UTC:20241024T080000
DTEND;TZID=UTC:20241024T150000
DTSTAMP:20260423T133724
CREATED:20240811T122322Z
LAST-MODIFIED:20240811T122322Z
UID:1900-1729756800-1729782000@www.allsaintsilkley.bradford.sch.uk
SUMMARY:Flu Nasal Spray
DESCRIPTION:
URL:https://www.allsaintsilkley.bradford.sch.uk/event/flu-nasal-spray/
END:VEVENT
BEGIN:VEVENT
DTSTART;TZID=UTC:20241025T080000
DTEND;TZID=UTC:20241025T170000
DTSTAMP:20260423T133724
CREATED:20240811T122427Z
LAST-MODIFIED:20240811T122427Z
UID:1902-1729843200-1729875600@www.allsaintsilkley.bradford.sch.uk
SUMMARY:Training Day
DESCRIPTION:Staff Training Day – School is closed to pupils.
URL:https://www.allsaintsilkley.bradford.sch.uk/event/training-day/
END:VEVENT
BEGIN:VEVENT
DTSTART;TZID=UTC:20241028T080000
DTEND;TZID=UTC:20241101T170000
DTSTAMP:20260423T133724
CREATED:20240811T122541Z
LAST-MODIFIED:20240811T122541Z
UID:1906-1730102400-1730480400@www.allsaintsilkley.bradford.sch.uk
SUMMARY:School Closed for Half-Term
DESCRIPTION:
URL:https://www.allsaintsilkley.bradford.sch.uk/event/school-closed-for-half-term/
END:VEVENT
END:VCALENDAR