BEGIN:VCALENDAR
VERSION:2.0
PRODID:-//All Saints&#039; CE - ECPv6.15.17.1//NONSGML v1.0//EN
CALSCALE:GREGORIAN
METHOD:PUBLISH
X-ORIGINAL-URL:https://www.allsaintsilkley.bradford.sch.uk
X-WR-CALDESC:Events for All Saints&#039; CE
REFRESH-INTERVAL;VALUE=DURATION:PT1H
X-Robots-Tag:noindex
X-PUBLISHED-TTL:PT1H
BEGIN:VTIMEZONE
TZID:UTC
BEGIN:STANDARD
TZOFFSETFROM:+0000
TZOFFSETTO:+0000
TZNAME:UTC
DTSTART:20230101T000000
END:STANDARD
END:VTIMEZONE
BEGIN:VEVENT
DTSTART;TZID=UTC:20240502T090000
DTEND;TZID=UTC:20240502T100000
DTSTAMP:20260423T205917
CREATED:20240325T143915Z
LAST-MODIFIED:20240325T143915Z
UID:719-1714640400-1714644000@www.allsaintsilkley.bradford.sch.uk
SUMMARY:Early Years Stay and Play
DESCRIPTION:
URL:https://www.allsaintsilkley.bradford.sch.uk/event/early-years-stay-and-play-3/
END:VEVENT
BEGIN:VEVENT
DTSTART;TZID=UTC:20240502T090000
DTEND;TZID=UTC:20240502T130000
DTSTAMP:20260423T205917
CREATED:20240325T143950Z
LAST-MODIFIED:20240325T143950Z
UID:721-1714640400-1714654800@www.allsaintsilkley.bradford.sch.uk
SUMMARY:Class Photos
DESCRIPTION:
URL:https://www.allsaintsilkley.bradford.sch.uk/event/class-photos/
END:VEVENT
BEGIN:VEVENT
DTSTART;TZID=UTC:20240503T090000
DTEND;TZID=UTC:20240503T093000
DTSTAMP:20260423T205917
CREATED:20240325T144020Z
LAST-MODIFIED:20240325T144020Z
UID:723-1714726800-1714728600@www.allsaintsilkley.bradford.sch.uk
SUMMARY:Year 2 May Day Performance
DESCRIPTION:
URL:https://www.allsaintsilkley.bradford.sch.uk/event/year-2-may-day-performance/
END:VEVENT
BEGIN:VEVENT
DTSTART;TZID=UTC:20240513T080000
DTEND;TZID=UTC:20240516T120000
DTSTAMP:20260423T205917
CREATED:20240325T144117Z
LAST-MODIFIED:20240325T144117Z
UID:725-1715587200-1715860800@www.allsaintsilkley.bradford.sch.uk
SUMMARY:Year 6 SATs week
DESCRIPTION:
URL:https://www.allsaintsilkley.bradford.sch.uk/event/year-6-sats-week/
END:VEVENT
BEGIN:VEVENT
DTSTART;TZID=UTC:20240521T090000
DTEND;TZID=UTC:20240521T100000
DTSTAMP:20260423T205917
CREATED:20240325T144248Z
LAST-MODIFIED:20240325T144248Z
UID:729-1716282000-1716285600@www.allsaintsilkley.bradford.sch.uk
SUMMARY:1M Collective Worship and Class Visit for Parents
DESCRIPTION:
URL:https://www.allsaintsilkley.bradford.sch.uk/event/1m-collective-worship-and-class-visit-for-parents/
END:VEVENT
BEGIN:VEVENT
DTSTART;TZID=UTC:20240521T103000
DTEND;TZID=UTC:20240521T160000
DTSTAMP:20260423T205917
CREATED:20240325T144214Z
LAST-MODIFIED:20240325T144214Z
UID:727-1716287400-1716307200@www.allsaintsilkley.bradford.sch.uk
SUMMARY:Year 6 at Brownlee Triathlon
DESCRIPTION:
URL:https://www.allsaintsilkley.bradford.sch.uk/event/year-6-at-brownlee-triathlon/
END:VEVENT
BEGIN:VEVENT
DTSTART;TZID=UTC:20240522T090000
DTEND;TZID=UTC:20240522T100000
DTSTAMP:20260423T205917
CREATED:20240325T112755Z
LAST-MODIFIED:20240516T042809Z
UID:628-1716368400-1716372000@www.allsaintsilkley.bradford.sch.uk
SUMMARY:Number Day
DESCRIPTION:All parents are invited to join us at 9am to celebrate Number Day in your child’s class.
URL:https://www.allsaintsilkley.bradford.sch.uk/event/national-numeracy-day/
END:VEVENT
BEGIN:VEVENT
DTSTART;TZID=UTC:20240522T163000
DTEND;TZID=UTC:20240522T173000
DTSTAMP:20260423T205917
CREATED:20240325T144330Z
LAST-MODIFIED:20240325T144330Z
UID:731-1716395400-1716399000@www.allsaintsilkley.bradford.sch.uk
SUMMARY:Year 6 Residential Meeting for parents
DESCRIPTION:
URL:https://www.allsaintsilkley.bradford.sch.uk/event/year-6-residential-meeting-for-parents/
END:VEVENT
BEGIN:VEVENT
DTSTART;TZID=UTC:20240527T090000
DTEND;TZID=UTC:20240602T233000
DTSTAMP:20260423T205917
CREATED:20240325T144441Z
LAST-MODIFIED:20240523T103811Z
UID:733-1716800400-1717371000@www.allsaintsilkley.bradford.sch.uk
SUMMARY:Half Term Holiday
DESCRIPTION:
URL:https://www.allsaintsilkley.bradford.sch.uk/event/half-term-holiday/
END:VEVENT
END:VCALENDAR